BEGIN:VCALENDAR
VERSION:2.0
PRODID:-//ChamberMaster//Event Calendar 2.0//EN
METHOD:PUBLISH
X-PUBLISHED-TTL:P3D
REFRESH-INTERVAL:P3D
CALSCALE:GREGORIAN
BEGIN:VEVENT
DTSTART:20151126T180000Z
DTEND:20151126T190000Z
X-MICROSOFT-CDO-ALLDAYEVENT:FALSE
SUMMARY:Annual Community Thanksgiving Dinner
DESCRIPTION:Annual Thanksgiving Dinner held at the Community Center. For reservations call the Referral Center at 659-9612. If you would like to donate call Fred & Elvira Donovan at 659-9894.
X-ALT-DESC;FMTTYPE=text/html:Annual Thanksgiving Dinner held at the Community Center. For reservations call the Referral Center at 659-9612. If you would like to donate call Fred &amp\; Elvira Donovan at 659-9894.
LOCATION:DeWitt Community Center
UID:e.1774.1142
SEQUENCE:3
DTSTAMP:20260421T013336Z
URL:https://business.dewittiowa.org/events/details/annual-community-thanksgiving-dinner-11-26-2015-1142
END:VEVENT

END:VCALENDAR
