BEGIN:VCALENDAR
VERSION:2.0
PRODID:-//ChamberMaster//Event Calendar 2.0//EN
METHOD:PUBLISH
X-PUBLISHED-TTL:P3D
REFRESH-INTERVAL:P3D
CALSCALE:GREGORIAN
BEGIN:VEVENT
DTSTART:20161107T231500Z
DTEND:20161108T003000Z
X-MICROSOFT-CDO-ALLDAYEVENT:FALSE
SUMMARY:Annual Meeting of the LIncolnWay Foundation
DESCRIPTION:Annual Meeting of the LincolnWay Foundation\n\nIntroducing the Community Foundation of Greater Dubuque\n\nat the Operahouse Theatre\n\nNov. 7th 2016  from 5:15- 6:30 pm\n\nHors d'oeuvres and Beverages provided.
X-ALT-DESC;FMTTYPE=text/html:Annual Meeting of the LincolnWay Foundation<br />\nIntroducing the Community Foundation of Greater Dubuque<br />\nat the Operahouse Theatre<br />\nNov. 7th 2016&nbsp\; from 5:15- 6:30 pm<br />\nHors d&#39\;oeuvres and Beverages provided.
LOCATION:Operahouse Theatre 716 6th Ave. DeWitt\, IA
UID:e.1774.1617
SEQUENCE:3
DTSTAMP:20260420T043640Z
URL:https://business.dewittiowa.org/events/details/annual-meeting-of-the-lincolnway-foundation-1617
END:VEVENT

END:VCALENDAR
