BEGIN:VCALENDAR
VERSION:2.0
PRODID:-//ChamberMaster//Event Calendar 2.0//EN
METHOD:PUBLISH
X-PUBLISHED-TTL:P3D
REFRESH-INTERVAL:P3D
CALSCALE:GREGORIAN
BEGIN:VEVENT
DTSTART:20160930T003000Z
DTEND:20160930T013000Z
X-MICROSOFT-CDO-ALLDAYEVENT:FALSE
SUMMARY:Annual Powder Puff Football Game!
DESCRIPTION:This year's Powder Puff game will be sponsored by the HS Student Council as a community FOOD DRIVE!  The entry fee for all spectators is a minimum of THREE nonperishable food items. All food will be donated to our local referral center.
X-ALT-DESC;FMTTYPE=text/html:This year&#39\;s Powder Puff game will be sponsored by the HS Student Council as a community FOOD DRIVE! &nbsp\;The entry fee for all spectators is a minimum of THREE nonperishable food items. All food will be donated to our local referral center.&nbsp\;
LOCATION:Central DeWitt Community School District High School Football Field
UID:e.1774.1607
SEQUENCE:3
DTSTAMP:20260420T074058Z
URL:https://business.dewittiowa.org/events/details/annual-powder-puff-football-game-1607
END:VEVENT

END:VCALENDAR
