BEGIN:VCALENDAR
VERSION:2.0
PRODID:-//ChamberMaster//Event Calendar 2.0//EN
METHOD:PUBLISH
X-PUBLISHED-TTL:P3D
REFRESH-INTERVAL:P3D
CALSCALE:GREGORIAN
BEGIN:VEVENT
DTSTART:20141031T140000Z
DTEND:20141031T190000Z
X-MICROSOFT-CDO-ALLDAYEVENT:FALSE
SUMMARY:Annual Preschool Trick or Treating
DESCRIPTION:The preschool children from Creative Learning Center\, Kids Business\, Grace Lutheran\, St. Joe's\, and Ekstrand\, will be trick or treating on Friday\, October 31st.  The AM group will start at 9:00 AM and the PM group will start at 1:00 PM.  There will be approximately 122 children total that will be trick or treating.  Businesses that would like the preschoolers to stop will need to hang a picture in their window (the pictures will be brought to the businesses during the week of October 20th).  Due to time constraints\, we will not be able to come into the businesses.  We would appreciate you coming out to greet the trick or treaters on the sidewalks.  Thank you and we will see you soon!
X-ALT-DESC;FMTTYPE=text/html:The preschool children from Creative Learning Center\, Kids Business\, Grace Lutheran\, St. Joe&#39\;s\, and Ekstrand\, will be trick or treating on Friday\, October 31st. &nbsp\;The AM group will start at 9:00 AM and the PM group will start at 1:00 PM. &nbsp\;There will be approximately 122 children total that will be trick or treating. &nbsp\;Businesses that would like the preschoolers to stop will need to hang a picture in their window (the pictures will be brought to the businesses during the week of October 20th). &nbsp\;Due to time constraints\, we will not be able to come into the businesses. &nbsp\;We would appreciate you coming out to greet the trick or treaters on the sidewalks. &nbsp\;Thank you and we will see you soon!
LOCATION:6th Avenue businesses Downtown DeWitt
UID:e.1774.215
SEQUENCE:3
DTSTAMP:20260421T220856Z
URL:https://business.dewittiowa.org/events/details/annual-preschool-trick-or-treating-10-31-2014-215
END:VEVENT

END:VCALENDAR
