BEGIN:VCALENDAR
VERSION:2.0
PRODID:-//ChamberMaster//Event Calendar 2.0//EN
METHOD:PUBLISH
X-PUBLISHED-TTL:P3D
REFRESH-INTERVAL:P3D
CALSCALE:GREGORIAN
BEGIN:VEVENT
DTSTART:20161031T140000Z
DTEND:20161031T190000Z
X-MICROSOFT-CDO-ALLDAYEVENT:FALSE
SUMMARY:Annual Preschool Trick or Treating
DESCRIPTION:To Downtown DeWitt Businesses:\n\n \n\nThe Creative Learning Center\, St. Joe's\, Grace Lutheran\, Ekstrand\, and Kids Business preschool programs will be trick or treating on Monday\, October 31st.  We will be coming up in the morning starting around 9:00 A.M. and in the afternoon starting around 1:00 P.M.  We will walk up and down 6th Avenue and some of the side streets.  We will try to visit as many businesses as we can.  If you see children out and about\, we would appreciate it if you could come outside to see them if possible.  If you would like to participate\, please hang the picture that will be delivered to your business during the week of October 17th to your window.  We will have approximately 128 children (79 in the A.M. and 49 in the P.M.) between all 5 preschools.  Thank you and have a Happy Halloween!\n\n \n\nCreative Learning Center\n\nMindy Chapman\, \n\nDirector
X-ALT-DESC;FMTTYPE=text/html:<span style="font-size:23.0pt">To Downtown DeWitt Businesses:</span><br />\n&nbsp\;<br />\n<span style="font-size:23.0pt">The Creative Learning Center\, St. Joe&rsquo\;s\, Grace Lutheran\, Ekstrand\, and Kids Business preschool programs will be trick or treating on Monday\, October 31<sup>st</sup>. &nbsp\;We will be coming up in the morning starting around 9:00 A.M. and in the afternoon starting around 1:00 P.M.&nbsp\; We will walk up and down 6<sup>th</sup> Avenue and some of the side streets.&nbsp\; We will try to visit as many businesses as we can.&nbsp\; If you see children out and about\, we would appreciate it if you could come outside to see them if possible.&nbsp\; If you would like to participate\, please hang the picture that will be delivered to your business during the week of October 17th to your window.&nbsp\; We will have approximately 128 children (79 in the A.M. and 49 in the P.M.) between all 5 preschools. &nbsp\;Thank you and have a Happy Halloween!</span><br />\n&nbsp\;<br />\n<span style="font-size:23.0pt">Creative Learning Center</span><br />\n<span style="font-size:23.0pt">Mindy Chapman\, </span><br />\n<span style="font-size:23.0pt">Director</span>
LOCATION:
UID:e.1774.1651
SEQUENCE:3
DTSTAMP:20260420T061121Z
URL:https://business.dewittiowa.org/events/details/annual-preschool-trick-or-treating-1651
END:VEVENT

END:VCALENDAR
