BEGIN:VCALENDAR
VERSION:2.0
PRODID:-//ChamberMaster//Event Calendar 2.0//EN
METHOD:PUBLISH
X-PUBLISHED-TTL:P3D
REFRESH-INTERVAL:P3D
CALSCALE:GREGORIAN
BEGIN:VEVENT
DTSTART:20170305T220000Z
DTEND:20170306T000000Z
X-MICROSOFT-CDO-ALLDAYEVENT:FALSE
SUMMARY:Annual "Soup and Chili Challenge
DESCRIPTION:Several organizations\, businesses\, and individuals will serve their favorite Soup or Chili. The competition is judged by the public with each attendee voting for their top three entries. Two winners will be named one in the soup and one in the chili. Winners receive $50 and bragging rights for the year. Proceeds will go to the development of the De Witt Noon Lions' Butterfly Garden at Westbrook Park in DeWitt.
X-ALT-DESC;FMTTYPE=text/html:Several organizations\, businesses\, and individuals will serve their favorite Soup or Chili. The competition is judged by the public with each attendee voting for their top three entries. Two winners will be named one in the soup and one in the chili. Winners receive $50 and bragging rights for the year. Proceeds will go to the development of the De Witt Noon Lions&#39\; Butterfly Garden at Westbrook Park in DeWitt.
LOCATION:Harness Hall St. Joseph's Church\, DeWitt
UID:e.1774.1845
SEQUENCE:3
DTSTAMP:20260419T234805Z
URL:https://business.dewittiowa.org/events/details/annual-soup-and-chili-challenge-1845
END:VEVENT

END:VCALENDAR
