BEGIN:VCALENDAR
VERSION:2.0
PRODID:-//ChamberMaster//Event Calendar 2.0//EN
METHOD:PUBLISH
X-PUBLISHED-TTL:P3D
REFRESH-INTERVAL:P3D
CALSCALE:GREGORIAN
BEGIN:VEVENT
DTSTART:20160820T180000Z
DTEND:20160820T200000Z
X-MICROSOFT-CDO-ALLDAYEVENT:FALSE
SUMMARY:Antique Appraiser\, Terri Applegate from LeClaire Antiques & Appraisals
DESCRIPTION:Special Guest\, Terri Applegate from LeClaire Antiques & Appraisals will be giving 2 FREE Appraisals (PER PERSON) on Auguest 20th from 1-3pm at Emma Rae's Antiques & Uniques. PLEASE NO GUNS\, KNIVES OR SWORDS!
X-ALT-DESC;FMTTYPE=text/html:Special Guest\, Terri Applegate from LeClaire Antiques &amp\; Appraisals will be giving 2 FREE Appraisals (PER PERSON) on Auguest 20th from 1-3pm at Emma Rae&#39\;s Antiques &amp\; Uniques. PLEASE NO GUNS\, KNIVES OR SWORDS!&nbsp\;
LOCATION:Emma Rae's Antiques & Uniques 714 6th Ave. DeWitt\, IA
UID:e.1774.1524
SEQUENCE:3
DTSTAMP:20260420T094426Z
URL:https://business.dewittiowa.org/events/details/antique-appraiser-terri-applegate-from-leclaire-antiques-appraisals-08-20-2016-1524
END:VEVENT

END:VCALENDAR
