BEGIN:VCALENDAR
VERSION:2.0
PRODID:-//ChamberMaster//Event Calendar 2.0//EN
METHOD:PUBLISH
X-PUBLISHED-TTL:P3D
REFRESH-INTERVAL:P3D
CALSCALE:GREGORIAN
BEGIN:VEVENT
DTSTART:20160409T150000Z
DTEND:20160409T190000Z
X-MICROSOFT-CDO-ALLDAYEVENT:FALSE
SUMMARY:Author Festival and Book Sale
DESCRIPTION:Library Author Festival and Book Sale. Author Festival in the library gives you the opportunity to visit with local authors Lexi Birks\, Tom Henricksen\, Kim Jacobi\, Staci Mercado\, Bill Mueller\, and Selatin Softa\, who will sign copies of their books for purchasers. Library Used Book Sale will be held concurrently in the community room\, with books of various genres and age levels available.
X-ALT-DESC;FMTTYPE=text/html:Library Author Festival and Book Sale. Author Festival in the library gives you the opportunity to visit with local authors Lexi Birks\, Tom Henricksen\, Kim Jacobi\, Staci Mercado\, Bill Mueller\, and Selatin Softa\, who will sign copies of their books for purchasers. Library Used Book Sale will be held concurrently in the community room\, with books of various genres and age levels available.
LOCATION:Frances Banta Waggoner Community LIbrary 505 10th St. DeWitt\, Iowa 52742
UID:e.1774.1276
SEQUENCE:3
DTSTAMP:20260420T152950Z
URL:https://business.dewittiowa.org/events/details/author-festival-and-book-sale-04-09-2016-1276
END:VEVENT

END:VCALENDAR
