BEGIN:VCALENDAR
VERSION:2.0
PRODID:-//ChamberMaster//Event Calendar 2.0//EN
METHOD:PUBLISH
X-PUBLISHED-TTL:P3D
REFRESH-INTERVAL:P3D
CALSCALE:GREGORIAN
BEGIN:VEVENT
DTSTART:20140917T231000Z
DTEND:20140918T010000Z
X-MICROSOFT-CDO-ALLDAYEVENT:FALSE
SUMMARY:Awana
DESCRIPTION:Awana is a Wednesday night program for kids 4-years-old through sixth grade - - including a great game time\, a fun time of singing and a lesson\, and time to learn and understand Bible verses. Kids love it!
X-ALT-DESC;FMTTYPE=text/html:Awana is a Wednesday night program for kids 4-years-old through sixth grade - - including a great game time\, a fun time of singing and a lesson\, and time to learn and understand Bible verses. Kids love it!
LOCATION:DeWitt Evangelical Free Church 1921 Elmwood Road\, DeWitt
UID:e.1774.154
SEQUENCE:3
DTSTAMP:20260421T221449Z
URL:https://business.dewittiowa.org/events/details/awana-09-17-2014-154
END:VEVENT

END:VCALENDAR
