BEGIN:VCALENDAR
VERSION:2.0
PRODID:-//ChamberMaster//Event Calendar 2.0//EN
METHOD:PUBLISH
X-PUBLISHED-TTL:P3D
REFRESH-INTERVAL:P3D
CALSCALE:GREGORIAN
BEGIN:VEVENT
DTSTART:20150718T220000Z
DTEND:20150719T000000Z
X-MICROSOFT-CDO-ALLDAYEVENT:FALSE
SUMMARY:Backyard Bash
DESCRIPTION:Food\, family games and activities
X-ALT-DESC;FMTTYPE=text/html:Food\, family games and activities
LOCATION:DeWitt Evangelical Free Church 1921 Elmwood Road DeWItt
UID:e.1774.913
SEQUENCE:3
DTSTAMP:20260421T061120Z
URL:https://business.dewittiowa.org/events/details/backyard-bash-07-18-2015-913
END:VEVENT

END:VCALENDAR
