BEGIN:VCALENDAR
VERSION:2.0
PRODID:-//ChamberMaster//Event Calendar 2.0//EN
METHOD:PUBLISH
X-PUBLISHED-TTL:P3D
REFRESH-INTERVAL:P3D
CALSCALE:GREGORIAN
BEGIN:VEVENT
DTSTART:20170401T003000Z
DTEND:20170401T030000Z
X-MICROSOFT-CDO-ALLDAYEVENT:FALSE
SUMMARY:Ballroom Dance Party
DESCRIPTION:Come join the fun. A great opportunity fo show off those dance moves or maybe learn some.\n\nDance lesson will be provided at 8:30 pm.
X-ALT-DESC;FMTTYPE=text/html:Come join the fun. A great opportunity fo show off those dance moves or maybe learn some.<br />\nDance lesson will be provided at 8:30 pm.
LOCATION:TYCOGA Vineyard & Winery 2585 195th Street Dewitt\, IA 52742 563-659-1443
UID:e.1774.1906
SEQUENCE:3
DTSTAMP:20260419T235020Z
URL:https://business.dewittiowa.org/events/details/ballroom-dance-party-03-31-2017-1906
END:VEVENT

END:VCALENDAR
