BEGIN:VCALENDAR
VERSION:2.0
PRODID:-//ChamberMaster//Event Calendar 2.0//EN
METHOD:PUBLISH
X-PUBLISHED-TTL:P3D
REFRESH-INTERVAL:P3D
CALSCALE:GREGORIAN
BEGIN:VEVENT
DTSTART:20161119T013000Z
DTEND:20161119T040000Z
X-MICROSOFT-CDO-ALLDAYEVENT:FALSE
SUMMARY:Ballroom Dance Party
DESCRIPTION:Come have some fun! Dance the night away\, practice and learn. A lesson will be offered at 8:30.\n\nPlease bring a snack to share. Cost is $10/per person.
X-ALT-DESC;FMTTYPE=text/html:Come have some fun! Dance the night away\, practice and learn. A lesson will be offered at 8:30.<br />\nPlease bring a snack to share. Cost is $10/per person.
LOCATION:TYCOGA Vineyard & Winery 2585 195th Street Dewitt\, IA 52742
UID:e.1774.1688
SEQUENCE:3
DTSTAMP:20260420T043028Z
URL:https://business.dewittiowa.org/events/details/ballroom-dance-party-1688
END:VEVENT

END:VCALENDAR
