BEGIN:VCALENDAR
VERSION:2.0
PRODID:-//ChamberMaster//Event Calendar 2.0//EN
METHOD:PUBLISH
X-PUBLISHED-TTL:P3D
REFRESH-INTERVAL:P3D
CALSCALE:GREGORIAN
BEGIN:VEVENT
DTSTART:20161022T003000Z
DTEND:20161022T030000Z
X-MICROSOFT-CDO-ALLDAYEVENT:FALSE
SUMMARY:Ballroom Dance Party Fundrasier
DESCRIPTION:Fundraiser for the Referral Center in DeWitt
X-ALT-DESC;FMTTYPE=text/html:Fundraiser for the Referral Center in DeWitt
LOCATION:TYCOGA Winery North of DeWitt off HWY 61
UID:e.1774.1650
SEQUENCE:3
DTSTAMP:20260420T061145Z
URL:https://business.dewittiowa.org/events/details/ballroom-dance-party-fundrasier-1650
END:VEVENT

END:VCALENDAR
