BEGIN:VCALENDAR
VERSION:2.0
PRODID:-//ChamberMaster//Event Calendar 2.0//EN
METHOD:PUBLISH
X-PUBLISHED-TTL:P3D
REFRESH-INTERVAL:P3D
CALSCALE:GREGORIAN
BEGIN:VEVENT
DTSTART:20150509T003000Z
DTEND:20150509T030000Z
X-MICROSOFT-CDO-ALLDAYEVENT:FALSE
SUMMARY:Ballroom Dance party @ TYCOGA Winery
DESCRIPTION:
X-ALT-DESC;FMTTYPE=text/html:
LOCATION:2585 195th Street Dewitt\, IA 52742
UID:e.1774.367
SEQUENCE:3
DTSTAMP:20260421T110434Z
URL:https://business.dewittiowa.org/events/details/ballroom-dance-party-tycoga-winery-05-08-2015-367
END:VEVENT

END:VCALENDAR
