BEGIN:VCALENDAR
VERSION:2.0
PRODID:-//ChamberMaster//Event Calendar 2.0//EN
METHOD:PUBLISH
X-PUBLISHED-TTL:P3D
REFRESH-INTERVAL:P3D
CALSCALE:GREGORIAN
BEGIN:VEVENT
DTSTART:20151205T013000Z
DTEND:20151205T040000Z
X-MICROSOFT-CDO-ALLDAYEVENT:FALSE
SUMMARY:Ballroom Dance party @ TYCOGA Winery
DESCRIPTION:See flier attached
X-ALT-DESC;FMTTYPE=text/html:See flier attached&nbsp\;&nbsp\;&nbsp\;&nbsp\;&nbsp\;&nbsp\;&nbsp\;&nbsp\;
LOCATION:TYCOGA Winery
UID:e.1774.1144
SEQUENCE:3
DTSTAMP:20260420T220921Z
URL:https://business.dewittiowa.org/events/details/ballroom-dance-party-tycoga-winery-12-04-2015-1144
END:VEVENT

END:VCALENDAR
