BEGIN:VCALENDAR
VERSION:2.0
PRODID:-//ChamberMaster//Event Calendar 2.0//EN
METHOD:PUBLISH
X-PUBLISHED-TTL:P3D
REFRESH-INTERVAL:P3D
CALSCALE:GREGORIAN
BEGIN:VEVENT
DTSTART:20160702T160000Z
DTEND:20160702T190000Z
X-MICROSOFT-CDO-ALLDAYEVENT:FALSE
SUMMARY:Barnes Brat Stand
DESCRIPTION:Maggie's House will be cooking at the Barnes Brat Stand on Saturday\, July 2nd from 11:00 a.m. to 2:00 p.m.  Stop by for brats or foot long hot dogs\, chips and a drink.  All proceeds will go toward events for our residents.
X-ALT-DESC;FMTTYPE=text/html:Maggie&#39\;s House will be cooking at the Barnes Brat Stand on Saturday\, July 2nd from 11:00 a.m. to 2:00 p.m. &nbsp\;Stop by for brats or foot long hot dogs\, chips and a drink. &nbsp\;All proceeds will go toward events for our residents.&nbsp\;
LOCATION:
UID:e.1774.1410
SEQUENCE:3
DTSTAMP:20260420T104600Z
URL:https://business.dewittiowa.org/events/details/barnes-brat-stand-07-02-2016-1410
END:VEVENT

END:VCALENDAR
