BEGIN:VCALENDAR
VERSION:2.0
PRODID:-//ChamberMaster//Event Calendar 2.0//EN
METHOD:PUBLISH
X-PUBLISHED-TTL:P3D
REFRESH-INTERVAL:P3D
CALSCALE:GREGORIAN
BEGIN:VEVENT
DTSTART:20150814T160000Z
DTEND:20150814T180000Z
X-MICROSOFT-CDO-ALLDAYEVENT:FALSE
SUMMARY:Barnes Brat Stand
DESCRIPTION:DeWitt Police Foundation/Citizen's Police Academy work the Barnes Brat Stand in order to raise funds for the annual National Night Out event that they host the first Tuesday in August.
X-ALT-DESC;FMTTYPE=text/html:DeWitt Police Foundation/Citizen&#39\;s Police Academy work the Barnes Brat Stand in order to raise funds for the annual National Night Out event that they host the first Tuesday in August.
LOCATION:Barnes Foodland Parking Lot 622 10th St.\, DeWitt
UID:e.1774.900
SEQUENCE:3
DTSTAMP:20260421T043721Z
URL:https://business.dewittiowa.org/events/details/barnes-brat-stand-08-14-2015-900
END:VEVENT

END:VCALENDAR
