BEGIN:VCALENDAR
VERSION:2.0
PRODID:-//ChamberMaster//Event Calendar 2.0//EN
METHOD:PUBLISH
X-PUBLISHED-TTL:P3D
REFRESH-INTERVAL:P3D
CALSCALE:GREGORIAN
BEGIN:VEVENT
DTSTART:20150828T160000Z
DTEND:20150828T190000Z
X-MICROSOFT-CDO-ALLDAYEVENT:FALSE
SUMMARY:Barnes Brat Stand
DESCRIPTION:Outreach Committee of the First Congregational United Church of Christ will be grilling brats and hot dogs\, also will have home-baked cookies and bars available for sale. Proceeds will be used to support people in need in our community.
X-ALT-DESC;FMTTYPE=text/html:Outreach Committee of the First Congregational United Church of Christ will be grilling brats and hot dogs\, also will have home-baked cookies and bars available for sale. Proceeds will be used to support people in need in our community.
LOCATION:Barnes Grocery Store parking lot
UID:e.1774.999
SEQUENCE:3
DTSTAMP:20260421T043216Z
URL:https://business.dewittiowa.org/events/details/barnes-brat-stand-08-28-2015-999
END:VEVENT

END:VCALENDAR
