BEGIN:VCALENDAR
VERSION:2.0
PRODID:-//ChamberMaster//Event Calendar 2.0//EN
METHOD:PUBLISH
X-PUBLISHED-TTL:P3D
REFRESH-INTERVAL:P3D
CALSCALE:GREGORIAN
BEGIN:VEVENT
DTSTART;VALUE=DATE:20170803
DTEND;VALUE=DATE:20170804
TRANSP:TRANSPARENT
X-MICROSOFT-CDO-ALLDAYEVENT:TRUE
SUMMARY:Baseball Bus Trip
DESCRIPTION:Soak up the sights and sounds of the ballpark at DeWitt Bank & Trust's annual Summer Baseball Bus Trip. This year\, the bus is headed to Miller Park on August 3rd to watch the St. Louis Cardinals take on the Milwaukee Brewers for a 1:10pm game.\n\n\n\nWith transprotation and tickets pre-arranged\, fans can relax and enjoy a true road-trip experience. Beverages\, games\, and a baseball movie during the bus ride will be provided on the bus. \n\n\n\nRSVP to (563) 659.3211 or RSVP@dewittbank.com
X-ALT-DESC;FMTTYPE=text/html:Soak up the sights and sounds of the ballpark at DeWitt Bank &amp\; Trust&#39\;s annual Summer Baseball Bus Trip. This year\, the bus is headed to Miller Park on August 3rd to watch the St. Louis Cardinals take on the Milwaukee Brewers for a 1:10pm game.<br />\n<br />\nWith transprotation and tickets pre-arranged\, fans can relax and enjoy a true road-trip experience. Beverages\, games\, and a baseball movie during the bus ride will be provided on the bus.&nbsp\;<br />\n<br />\nRSVP to (563) 659.3211 or <a href="mailto:RSVP@dewittbank.com">RSVP@dewittbank.com</a>
LOCATION:Bus Departs From: DeWitt Bank & Trust 815 6th Avenue\, DeWitt. IA 52742 Destination: Miller Park 1 Brewers Way\, Milwaukee\, WI 53214
UID:e.1774.3167
SEQUENCE:3
DTSTAMP:20260419T133239Z
URL:https://business.dewittiowa.org/events/details/baseball-bus-trip-3167
END:VEVENT

END:VCALENDAR
