BEGIN:VCALENDAR
VERSION:2.0
PRODID:-//ChamberMaster//Event Calendar 2.0//EN
METHOD:PUBLISH
X-PUBLISHED-TTL:P3D
REFRESH-INTERVAL:P3D
CALSCALE:GREGORIAN
BEGIN:VEVENT
DTSTART;VALUE=DATE:20150206
DTEND;VALUE=DATE:20150207
TRANSP:TRANSPARENT
X-MICROSOFT-CDO-ALLDAYEVENT:TRUE
SUMMARY:Beanbag Tournament by Junior Women
DESCRIPTION:Come out and beat the winter blues and have fun with friends. Junior Women will be holding the second annual beanbag tournament at Buzzy's on Friday\, February 6th. Sign in begins at 6:45 with play beginning at 7:00. The cost is $20 per team of two. Money will be awarded up to third place and there will be a 50/50 raffle. Please email Molly Oliver at mollyhass@hotmail.com or call/text at 563-210-0159 to sign up your team.
X-ALT-DESC;FMTTYPE=text/html:Come out and beat the winter blues and have fun with friends. Junior Women will be holding the second annual beanbag tournament at Buzzy&#39\;s on Friday\, February 6th. Sign in begins at 6:45 with play beginning at 7:00. The cost is $20 per team of two. Money will be awarded up to third place and there will be a 50/50 raffle. Please email Molly Oliver at mollyhass@hotmail.com or call/text at 563-210-0159 to sign up your team.
LOCATION:Buzzy's in Welton
UID:e.1774.261
SEQUENCE:3
DTSTAMP:20260421T142607Z
URL:https://business.dewittiowa.org/events/details/beanbag-tournament-by-junior-women-02-06-2015-261
END:VEVENT

END:VCALENDAR
