BEGIN:VCALENDAR
VERSION:2.0
PRODID:-//ChamberMaster//Event Calendar 2.0//EN
METHOD:PUBLISH
X-PUBLISHED-TTL:P3D
REFRESH-INTERVAL:P3D
CALSCALE:GREGORIAN
BEGIN:VEVENT
DTSTART:20150328T000000Z
DTEND:20150328T010000Z
X-MICROSOFT-CDO-ALLDAYEVENT:FALSE
SUMMARY:Bethel Women's Chorale in Concert at Emmaus Road Church
DESCRIPTION:Bethel University Women's Chorale in Concert\n\nFriday\, March 27th at 7:00pm.\n\nHosted by Emmaus Road Church\n\nAdmission is free. A free will offering will be taken to help support the Chorale.
X-ALT-DESC;FMTTYPE=text/html:Bethel University Women&#39\;s Chorale in Concert<br />\nFriday\, March 27th at 7:00pm.<br />\nHosted by Emmaus Road Church<br />\nAdmission is free. A free will offering will be taken to help support the Chorale.
LOCATION:Emmaus Road Church
UID:e.1774.337
SEQUENCE:3
DTSTAMP:20260421T125458Z
URL:https://business.dewittiowa.org/events/details/bethel-women-s-chorale-in-concert-at-emmaus-road-church-03-27-2015-337
END:VEVENT

END:VCALENDAR
