BEGIN:VCALENDAR
VERSION:2.0
PRODID:-//ChamberMaster//Event Calendar 2.0//EN
METHOD:PUBLISH
X-PUBLISHED-TTL:P3D
REFRESH-INTERVAL:P3D
CALSCALE:GREGORIAN
BEGIN:VEVENT
DTSTART:20160823T223000Z
DTEND:20160824T013000Z
X-MICROSOFT-CDO-ALLDAYEVENT:FALSE
SUMMARY:Big Questions 2016
DESCRIPTION:Big Questions 2016 Land Values Rental Rates Sustainability SPEAKER LINE-UP Roger Wolf: Director of Environmental Programs & Services\, Iowa Soybean Assoc. David Bruer: Senior VP\, AgSolver Tyler Krug: Land Manager\, Peoples Co. Hosted by Total Realty Company LLC and Peoples Co.
X-ALT-DESC;FMTTYPE=text/html:Big Questions 2016 Land Values Rental Rates Sustainability SPEAKER LINE-UP Roger Wolf: Director of Environmental Programs &amp\; Services\, Iowa Soybean Assoc. David Bruer: Senior VP\, AgSolver Tyler Krug: Land Manager\, Peoples Co. Hosted by Total Realty Company LLC and Peoples Co.
LOCATION:DeWitt Community Center 512 10th St. DeWitt\, IA 52742
UID:e.1774.1526
SEQUENCE:3
DTSTAMP:20260420T093601Z
URL:https://business.dewittiowa.org/events/details/big-questions-2016-08-23-2016-1526
END:VEVENT

END:VCALENDAR
