BEGIN:VCALENDAR
VERSION:2.0
PRODID:-//ChamberMaster//Event Calendar 2.0//EN
METHOD:PUBLISH
X-PUBLISHED-TTL:P3D
REFRESH-INTERVAL:P3D
CALSCALE:GREGORIAN
BEGIN:VEVENT
DTSTART:20170914T000000Z
DTEND:20170914T010000Z
X-MICROSOFT-CDO-ALLDAYEVENT:FALSE
SUMMARY:Bitcoin 101
DESCRIPTION:Have you heard of the new alternative currency that is gaining popularity (and value)? This class covers the basics and helps you understand how it works. We cover topics including securing your funds and what is a blockchain.
X-ALT-DESC;FMTTYPE=text/html:Have you heard of the new alternative currency that is gaining popularity (and value)? This class covers the basics and helps you understand how it works. We cover topics including securing your funds and what is a blockchain.
LOCATION:911 5th Ave\, DeWitt\, IA 52742 Right behind the Library
UID:e.1774.4271
SEQUENCE:3
DTSTAMP:20260419T120221Z
URL:https://business.dewittiowa.org/events/details/bitcoin-101-4271
END:VEVENT

END:VCALENDAR
