BEGIN:VCALENDAR
VERSION:2.0
PRODID:-//ChamberMaster//Event Calendar 2.0//EN
METHOD:PUBLISH
X-PUBLISHED-TTL:P3D
REFRESH-INTERVAL:P3D
CALSCALE:GREGORIAN
BEGIN:VEVENT
DTSTART:20160423T150000Z
DTEND:20160423T193000Z
X-MICROSOFT-CDO-ALLDAYEVENT:FALSE
SUMMARY:Blessing of the Bikes and Bike Show
DESCRIPTION:Bike Blessing and Show: Individual blessings available throughout the event with a group blessing at 2 pm.\n\n\n\nCategories - Trophies for 1st - 3rd place Non-metric 1000+ Metric 1000+ Non-Metric  1000 Metric  1000 Classic
X-ALT-DESC;FMTTYPE=text/html:Bike Blessing and Show: Individual blessings available throughout the event with a group blessing at 2 pm.<br />\n<br />\nCategories - Trophies for 1st - 3rd place Non-metric 1000+ Metric 1000+ Non-Metric &lt\;1000 Metric &lt\;1000 Classic
LOCATION:Cornerstone Assembly of God 2108 11th Street DeWitt\, IA 52742
UID:e.1774.1282
SEQUENCE:3
DTSTAMP:20260420T153043Z
URL:https://business.dewittiowa.org/events/details/blessing-of-the-bikes-and-bike-show-04-23-2016-1282
END:VEVENT

END:VCALENDAR
