BEGIN:VCALENDAR
VERSION:2.0
PRODID:-//ChamberMaster//Event Calendar 2.0//EN
METHOD:PUBLISH
X-PUBLISHED-TTL:P3D
REFRESH-INTERVAL:P3D
CALSCALE:GREGORIAN
BEGIN:VEVENT
DTSTART:20170919T223000Z
DTEND:20170920T003000Z
X-MICROSOFT-CDO-ALLDAYEVENT:FALSE
SUMMARY:Blue Mass
DESCRIPTION:Knights of Columbus Council 959 of DeWitt\, Council 707 of Clinton and Camanche\, and Council 16\,694 of Grand Mound\, Lost Nation\, Toronto\, and Oxford Junction will hold a Blue Mass Tuesday Sept. 19 for Clinton County police\, firefighters and EMS personnel.\n\n\n\nThe Mass will be presided by Bishop Thomas Zinkula and is intended to recognize all fire\, police\, EMS and other first responders for their service and dedication to the residents of Clinton County. The service is called a Blue Mass because of the blue uniforms that first responders wear. It is an ecumenical service open to individuals of all faiths.\n\n\n\nIn keeping with the significance and solemnity of this event\, it is requested that personnel attending wear the dress uniform of their respective department. The public is invited and encouraged to attend.\n\nThere will be a reception following the Mass with light refreshments.
X-ALT-DESC;FMTTYPE=text/html:Knights of Columbus Council 959 of DeWitt\, Council 707 of Clinton and Camanche\, and Council 16\,694 of Grand Mound\, Lost Nation\, Toronto\, and Oxford Junction will hold a Blue Mass Tuesday Sept. 19 for Clinton County police\, firefighters and EMS personnel.<br />\n<br />\nThe Mass<span style="color: rgb(51\, 51\, 51)\; font-family: sans-serif\, Arial\, Verdana\, &quot\;Trebuchet MS&quot\;\; font-size: 13px\; background-color: rgb(255\, 255\, 255)\;">&nbsp\;will be presided by Bishop Thomas&nbsp\;</span>Zinkula and&nbsp\;is intended to recognize all fire\, police\, EMS and other first responders for their service and dedication to the residents of Clinton County. The service is called a Blue Mass because of the blue uniforms that first responders wear. It is an ecumenical service open to individuals of all faiths.<br />\n<br />\nIn keeping with the significance and solemnity of this event\, it is requested that personnel attending wear the dress uniform of their respective department. The public is invited and encouraged to attend.<br />\nThere will be a reception following the Mass with light refreshments.<br />\n&nbsp\;
LOCATION:St. Joseph's Catholic Church 417 6th Ave. DeWitt\, Iowa
UID:e.1774.3207
SEQUENCE:3
DTSTAMP:20260419T120252Z
URL:https://business.dewittiowa.org/events/details/blue-mass-3207
END:VEVENT

END:VCALENDAR
