BEGIN:VCALENDAR
VERSION:2.0
PRODID:-//ChamberMaster//Event Calendar 2.0//EN
METHOD:PUBLISH
X-PUBLISHED-TTL:P3D
REFRESH-INTERVAL:P3D
CALSCALE:GREGORIAN
BEGIN:VEVENT
DTSTART:20160417T230000Z
DTEND:20160418T010000Z
X-MICROSOFT-CDO-ALLDAYEVENT:FALSE
SUMMARY:BOOK CLUB for People of Some Kind of Faith
DESCRIPTION:We will be discussing this month's book: Toxic Charity by Robert Lupton. Our guest speaker is Jennifer Kreiter.
X-ALT-DESC;FMTTYPE=text/html:We will be discussing this month&#39\;s book: Toxic Charity by Robert Lupton. Our guest speaker is Jennifer Kreiter.
LOCATION:Whisk Away Caf and Bakery
UID:e.1774.1292
SEQUENCE:3
DTSTAMP:20260420T153200Z
URL:https://business.dewittiowa.org/events/details/book-club-for-people-of-some-kind-of-faith-04-17-2016-1292
END:VEVENT

END:VCALENDAR
