BEGIN:VCALENDAR
VERSION:2.0
PRODID:-//ChamberMaster//Event Calendar 2.0//EN
METHOD:PUBLISH
X-PUBLISHED-TTL:P3D
REFRESH-INTERVAL:P3D
CALSCALE:GREGORIAN
BEGIN:VEVENT
DTSTART:20150416T220000Z
DTEND:20150417T000000Z
X-MICROSOFT-CDO-ALLDAYEVENT:FALSE
SUMMARY:Book Signing by Kim Jacobi
DESCRIPTION:Join the Friends of Frances at a\n\nBook Signing\n\nby first-time author\n\nKim Jacobi of Calamus
X-ALT-DESC;FMTTYPE=text/html:<div style="text-align: center\;"><span style="font-size:24px\;">Join the Friends of Frances at a<br />\nBook Signing<br />\nby first-time author<br />\nKim Jacobi of Calamus</span></div>\n
LOCATION:Frances Banta Waggoner Community Library 505 10th St. DeWitt
UID:e.1774.358
SEQUENCE:3
DTSTAMP:20260421T110219Z
URL:https://business.dewittiowa.org/events/details/book-signing-by-kim-jacobi-04-16-2015-358
END:VEVENT

END:VCALENDAR
