BEGIN:VCALENDAR
VERSION:2.0
PRODID:-//ChamberMaster//Event Calendar 2.0//EN
METHOD:PUBLISH
X-PUBLISHED-TTL:P3D
REFRESH-INTERVAL:P3D
CALSCALE:GREGORIAN
BEGIN:VEVENT
DTSTART:20151024T140000Z
DTEND:20151024T180000Z
X-MICROSOFT-CDO-ALLDAYEVENT:FALSE
SUMMARY:Book Signing by Local Author Bill Mueller
DESCRIPTION:Bill Mueller\, a local author\, will be hold a book signing of his book\, True Stories of Driving Adventures and Misadventures that will Amaze and Entertain. Bill tells of his 40 years as educator\, blending humor with valuable tips and common sense driving skills. His book provides a fine start for youth seeking their first driver's license\, as well as those who have been driving for many years.\n\nClick here for more information.
X-ALT-DESC;FMTTYPE=text/html:<br />\nBill Mueller\, a local author\, will be hold a book signing of his book\, True Stories of Driving Adventures and Misadventures that will Amaze and Entertain. Bill tells of his 40 years as educator\, blending humor with valuable tips and common sense driving skills. His book provides a fine start for youth seeking their first driver&#39\;s license\, as well as those who have been driving for many years.<br />\n<a href="http://cloud.chambermaster.com/userfiles/UserFiles/chambers/1774/File/MuellerPoster20x24.pdf">Click here for more information.</a>
LOCATION:Frances Banta Waggoner Community Library
UID:e.1774.1083
SEQUENCE:3
DTSTAMP:20260421T025441Z
URL:https://business.dewittiowa.org/events/details/book-signing-by-local-author-bill-mueller-10-24-2015-1083
END:VEVENT

END:VCALENDAR
