BEGIN:VCALENDAR
VERSION:2.0
PRODID:-//ChamberMaster//Event Calendar 2.0//EN
METHOD:PUBLISH
X-PUBLISHED-TTL:P3D
REFRESH-INTERVAL:P3D
CALSCALE:GREGORIAN
BEGIN:VEVENT
DTSTART:20151113T170000Z
DTEND:20151113T200000Z
X-MICROSOFT-CDO-ALLDAYEVENT:FALSE
SUMMARY:Book Signing @ Whisk Away Cafe & Bakery
DESCRIPTION:Bill Mueller will be holding a book signing for his new book\, "Come Drive With Me" Friday\, November 13th\, from 11am to 2 pm.
X-ALT-DESC;FMTTYPE=text/html:Bill Mueller will be holding a book signing for his new book\, &quot\;Come Drive With Me&quot\; Friday\, November 13th\, from 11am to 2 pm.
LOCATION:Whisk Away Cafe & Bakery 919 6th Ave. DeWitt\, IA 52742
UID:e.1774.1121
SEQUENCE:3
DTSTAMP:20260420T233159Z
URL:https://business.dewittiowa.org/events/details/book-signing-whisk-away-cafe-bakery-11-13-2015-1121
END:VEVENT

END:VCALENDAR
