BEGIN:VCALENDAR
VERSION:2.0
PRODID:-//ChamberMaster//Event Calendar 2.0//EN
METHOD:PUBLISH
X-PUBLISHED-TTL:P3D
REFRESH-INTERVAL:P3D
CALSCALE:GREGORIAN
BEGIN:VEVENT
DTSTART;VALUE=DATE:20150325
DTEND;VALUE=DATE:20150326
TRANSP:TRANSPARENT
X-MICROSOFT-CDO-ALLDAYEVENT:TRUE
SUMMARY:Book Signings
DESCRIPTION:First time author\, Lexi Birks will be at Whisk Away Cafe & Bakery and the Banta Waggoner Community Library to sign copies of her novel "Diary of Her Disappearance."
X-ALT-DESC;FMTTYPE=text/html:First time author\, Lexi Birks will be at Whisk Away Cafe &amp\; Bakery and the Banta Waggoner Community Library to sign copies of her novel &quot\;Diary of Her Disappearance.&quot\;
LOCATION:11:00 AM - 1:30 PM at Whisk Away Cafe & Bakery\, 919 6th Ave.\, DeWitt 1:45 - 3:30 PM at Frances Banta Waggoner Community Library\, 505 10th St.\, DeWitt
UID:e.1774.334
SEQUENCE:3
DTSTAMP:20260421T124446Z
URL:https://business.dewittiowa.org/events/details/book-signings-03-25-2015-334
END:VEVENT

END:VCALENDAR
