BEGIN:VCALENDAR
VERSION:2.0
PRODID:-//ChamberMaster//Event Calendar 2.0//EN
METHOD:PUBLISH
X-PUBLISHED-TTL:P3D
REFRESH-INTERVAL:P3D
CALSCALE:GREGORIAN
BEGIN:VEVENT
DTSTART:20151013T170000Z
DTEND:20151014T170000Z
X-MICROSOFT-CDO-ALLDAYEVENT:FALSE
SUMMARY:Books are Fun! Book Fair
DESCRIPTION:Books Are Fun Book Fair. It's never to early to start your Christmas Shopping! There will be a diverse selection of books\, educational items\, and gift items at a 30%-70% discount. All proceeds to be used for a Stryker Stretcher at Genesis-DeWitt This event sponsored by the DeWitt Hospital Auxiliary.
X-ALT-DESC;FMTTYPE=text/html:Books Are Fun Book Fair. It&#39\;s never to early to start your Christmas Shopping! There will be a diverse selection of books\, educational items\, and gift items at a 30%-70% discount. All proceeds to be used for a Stryker Stretcher at Genesis-DeWitt This event sponsored by the DeWitt Hospital Auxiliary.
LOCATION:2 days\, different locations each day 10/13 - Genesis DeWitt\, Admitting/ER Entrance\, 7 am - 3 pm 10/14 - St. Joe's Church\, Harness Hall\, 11 am - 1 pm
UID:e.1774.1064
SEQUENCE:3
DTSTAMP:20260421T012647Z
URL:https://business.dewittiowa.org/events/details/books-are-fun-book-fair-10-13-2015-1064
END:VEVENT

END:VCALENDAR
