BEGIN:VCALENDAR
VERSION:2.0
PRODID:-//ChamberMaster//Event Calendar 2.0//EN
METHOD:PUBLISH
X-PUBLISHED-TTL:P3D
REFRESH-INTERVAL:P3D
CALSCALE:GREGORIAN
BEGIN:VEVENT
DTSTART:20151014T221500Z
DTEND:20151014T231500Z
X-MICROSOFT-CDO-ALLDAYEVENT:FALSE
SUMMARY:BOOM! Philanthropic group
DESCRIPTION:BOOM! Women's philanthropic group will meet to select the first recipient of quarterly grant money. Each participant may nominate a qualified charity in exchange for a $100 donation. Three nominees will be drawn and the group will choose a single recipient for al the checks.
X-ALT-DESC;FMTTYPE=text/html:BOOM! Women&#39\;s philanthropic group will meet to select the first recipient of quarterly grant money. Each participant may nominate a qualified charity in exchange for a $100 donation. Three nominees will be drawn and the group will choose a single recipient for al the checks.
LOCATION:TYCOGA WINERY\, north of DeWitt
UID:e.1774.1077
SEQUENCE:3
DTSTAMP:20260421T012328Z
URL:https://business.dewittiowa.org/events/details/boom-philanthropic-group-10-14-2015-1077
END:VEVENT

END:VCALENDAR
