BEGIN:VCALENDAR
VERSION:2.0
PRODID:-//ChamberMaster//Event Calendar 2.0//EN
METHOD:PUBLISH
X-PUBLISHED-TTL:P3D
REFRESH-INTERVAL:P3D
CALSCALE:GREGORIAN
BEGIN:VEVENT
DTSTART:20170611T190000Z
DTEND:20170611T220000Z
X-MICROSOFT-CDO-ALLDAYEVENT:FALSE
SUMMARY:Boots Hefel band
DESCRIPTION:Boots Hefel will be performing for the 1st time at TYCOGA on the patio.\n\nWood fired pizza available for purchase from 11-5pm.\n\nALL beverages to be purchased from TYCOGA.\n\nIf raining\, event will be inside.
X-ALT-DESC;FMTTYPE=text/html:Boots Hefel will be performing for the 1st time at TYCOGA on the patio.<br />\nWood fired pizza available for purchase from 11-5pm.<br />\nALL beverages to be purchased from TYCOGA.<br />\nIf raining\, event will be inside.
LOCATION:TYCOGA Vineyard & Winery 2585 195th Street DeWitt\, IA 52742 563-659-1443
UID:e.1774.3048
SEQUENCE:3
DTSTAMP:20260419T182113Z
URL:https://business.dewittiowa.org/events/details/boots-hefel-3048
END:VEVENT

END:VCALENDAR
