BEGIN:VCALENDAR
VERSION:2.0
PRODID:-//ChamberMaster//Event Calendar 2.0//EN
METHOD:PUBLISH
X-PUBLISHED-TTL:P3D
REFRESH-INTERVAL:P3D
CALSCALE:GREGORIAN
BEGIN:VEVENT
DTSTART:20150822T160000Z
DTEND:20150822T180000Z
X-MICROSOFT-CDO-ALLDAYEVENT:FALSE
SUMMARY:Brat Stand Junior Achievement
DESCRIPTION:Barnes Foodland Parking Lot 622 10th St.\, DeWitt
X-ALT-DESC;FMTTYPE=text/html:Barnes Foodland Parking Lot 622 10th St.\, DeWitt
LOCATION:Barnes Foodland Parking Lot
UID:e.1774.1001
SEQUENCE:3
DTSTAMP:20260421T061524Z
URL:https://business.dewittiowa.org/events/details/brat-stand-junior-achievement-08-22-2015-1001
END:VEVENT

END:VCALENDAR
