BEGIN:VCALENDAR
VERSION:2.0
PRODID:-//ChamberMaster//Event Calendar 2.0//EN
METHOD:PUBLISH
X-PUBLISHED-TTL:P3D
REFRESH-INTERVAL:P3D
CALSCALE:GREGORIAN
BEGIN:VEVENT
DTSTART:20140823T123000Z
DTEND:20140823T153000Z
X-MICROSOFT-CDO-ALLDAYEVENT:FALSE
SUMMARY:Breakfast Fundraiser for Craig Reuter
DESCRIPTION:Craig Reuter is a loved teacher at Central High School and was recently in an accident while riding his bike. Central High School's FBLA club and Student Council will be hosting the breakfast and all proceeds will go to his medical costs.
X-ALT-DESC;FMTTYPE=text/html:Craig Reuter is a loved teacher at Central High School and was recently in an accident while riding his bike.&nbsp\;Central High School&#39\;s&nbsp\;FBLA club and Student Council will be hosting the breakfast and all proceeds will go to his medical costs.
LOCATION:Central High School\, Football Concession Stand 519 East 11th Street\, DeWitt IA 52742
UID:e.1774.130
SEQUENCE:3
DTSTAMP:20260422T010938Z
URL:https://business.dewittiowa.org/events/details/breakfast-fundraiser-for-craig-reuter-08-23-2014-130
END:VEVENT

END:VCALENDAR
