BEGIN:VCALENDAR
VERSION:2.0
PRODID:-//ChamberMaster//Event Calendar 2.0//EN
METHOD:PUBLISH
X-PUBLISHED-TTL:P3D
REFRESH-INTERVAL:P3D
CALSCALE:GREGORIAN
BEGIN:VEVENT
DTSTART:20170919T133000Z
DTEND:20170919T143000Z
X-MICROSOFT-CDO-ALLDAYEVENT:FALSE
SUMMARY:Breakfast Pizza Sale - Central DeWitt Homecoming
DESCRIPTION:Central DeWitt Homecoming - Breakfast Pizza Sale\n\nTuesday\, September 19\n\n\n\nBreakfast Pizza will be pre-sold and delivered to local businesses on the morning of September 19 between 8:30-9:30 a.m. for $20.00 a pie.  ORDERS MUST BE IN BY WEDNESDAY\, SEPTEMBER 13.\n\n\n\nContact Mary at 563.212.5843 to place your orders and arrange delivery. \n\n\n\nProvided by the Central DeWitt Community Educational Foundation
X-ALT-DESC;FMTTYPE=text/html:Central DeWitt Homecoming - Breakfast Pizza Sale<br />\nTuesday\, September 19<br />\n<br />\nBreakfast Pizza will be pre-sold and delivered to local businesses on the morning of September 19 between 8:30-9:30 a.m. for $20.00 a pie. &nbsp\;ORDERS MUST BE IN BY WEDNESDAY\, SEPTEMBER 13.<br />\n<br />\nContact Mary at 563.212.5843 to place your orders and arrange delivery.&nbsp\;<br />\n<br />\nProvided by the Central DeWitt Community Educational Foundation
LOCATION:DeWitt\, IA
UID:e.1774.4267
SEQUENCE:3
DTSTAMP:20260419T120925Z
URL:https://business.dewittiowa.org/events/details/breakfast-pizza-sale-central-dewitt-homecoming-4267
END:VEVENT

END:VCALENDAR
