BEGIN:VCALENDAR
VERSION:2.0
PRODID:-//ChamberMaster//Event Calendar 2.0//EN
METHOD:PUBLISH
X-PUBLISHED-TTL:P3D
REFRESH-INTERVAL:P3D
CALSCALE:GREGORIAN
BEGIN:VEVENT
DTSTART:20140819T170000Z
DTEND:20140819T210000Z
X-MICROSOFT-CDO-ALLDAYEVENT:FALSE
SUMMARY:Business Counseling Sessions through Eastern Iowa Small Business Development Center
DESCRIPTION:The DCDC has partnered with Marsha Rinetti\, Director of the Eastern Iowa Small Business Development Center\, to bring her services to DeWitt on August 19th. \nMarsha will be available to speak to both existing businesses and individuals looking to start their own business and provide counseling on a variety of topics\, including but not limited to:\n\n\n	New business guidance\n	Business planning and modeling\n	Loan proposal assistance\n	Financing opportunities\n	Market research services\n	Export assistance\n	Cash flow projections\n	Business growth and succession strategies\n	Strategic planning\n	Business continuity planning\n\nClick Here to view the full session flyer !!
X-ALT-DESC;FMTTYPE=text/html:<p><span style="font-size: 14px\;"><span style="font-family: arial\;"><strong>The DCDC has partnered with Marsha Rinetti\, Director of the Eastern Iowa Small Business Development Center\, to bring her services to DeWitt on August </strong><strong>19</strong><sup><strong>th</strong></sup><sup>. </sup></span></span></p>\n<span style="font-family: arial\;"><span style="font-size: 18px\;"><b><sup>Marsha will be available to speak to both existing businesses and individuals looking to start their own business and provide counseling on a variety of topics\, including but not limited to:</sup></b></span></span>\n\n<ul>\n	<li><span style="font-family: arial\;"><span style="font-size: 18px\;"><b><sup>New business guidance</sup></b></span></span></li>\n	<li><span style="font-family: arial\;"><span style="font-size: 18px\;"><b><sup>Business planning and modeling</sup></b></span></span></li>\n	<li><span style="font-family: arial\;"><span style="font-size: 18px\;"><b><sup>Loan proposal assistance</sup></b></span></span></li>\n	<li><span style="font-family: arial\;"><span style="font-size: 18px\;"><b><sup>Financing opportunities</sup></b></span></span></li>\n	<li><span style="font-family: arial\;"><span style="font-size: 18px\;"><b><sup>Market research services</sup></b></span></span></li>\n	<li><span style="font-family: arial\;"><span style="font-size: 18px\;"><b><sup>Export assistance</sup></b></span></span></li>\n	<li><span style="font-family: arial\;"><span style="font-size: 18px\;"><b><sup>Cash flow projections</sup></b></span></span></li>\n	<li><span style="font-family: arial\;"><span style="font-size: 18px\;"><b><sup>Business growth and succession strategies</sup></b></span></span></li>\n	<li><span style="font-family: arial\;"><span style="font-size: 18px\;"><b><sup>Strategic planning</sup></b></span></span></li>\n	<li><span style="font-family: arial\;"><span style="font-size: 18px\;"><b><sup>Business continuity planning</sup></b></span></span></li>\n</ul>\n<a href="http://cloud.chambermaster.com/userfiles/UserFiles/chambers/1774/File/ISBDC_invite.pdf">Click Here</a> to view the full session flyer !!<br />\n&nbsp\;\n<dir>\n</dir>\n\n<dir>\n</dir>\n\n<dir>\n</dir>\n\n<dir>\n</dir>\n
LOCATION:1010 6th Ave. DeWitt\, IA 52742 (DeWitt Chamber & Development Company Office)
UID:e.1774.115
SEQUENCE:3
DTSTAMP:20260422T011336Z
URL:https://business.dewittiowa.org/events/details/business-counseling-sessions-through-eastern-iowa-small-business-development-center-08-19-2014-115
END:VEVENT

END:VCALENDAR
