BEGIN:VCALENDAR
VERSION:2.0
PRODID:-//ChamberMaster//Event Calendar 2.0//EN
METHOD:PUBLISH
X-PUBLISHED-TTL:P3D
REFRESH-INTERVAL:P3D
CALSCALE:GREGORIAN
BEGIN:VEVENT
DTSTART:20160501T200000Z
DTEND:20160501T220000Z
X-MICROSOFT-CDO-ALLDAYEVENT:FALSE
SUMMARY:Calling All Singers
DESCRIPTION:The DeWitt Area Fine Arts Foundation is sponsoring a community choir concert.  The choir will sing patriotic songs at a July 3 performance at the Central DeWitt Performing Arts Center.  The first rehearsal is Sunday\, May 1\, at 3:00 PM at the high school.  Noah Cornelius will direct the group.  No previous singing experience is required.
X-ALT-DESC;FMTTYPE=text/html:The DeWitt Area Fine Arts Foundation is sponsoring a community choir concert.&nbsp\; The choir will&nbsp\;sing patriotic songs at a July 3 performance at the Central DeWitt Performing Arts Center.&nbsp\; The first rehearsal is Sunday\, May 1\, at 3:00 PM at the high school.&nbsp\; Noah Cornelius will direct the group.&nbsp\; No previous singing experience is required.
LOCATION:Central DeWitt High School chorus room 519 E. 11th St. DeWitt\, IA
UID:e.1774.1314
SEQUENCE:3
DTSTAMP:20260420T134714Z
URL:https://business.dewittiowa.org/events/details/calling-all-singers-05-01-2016-1314
END:VEVENT

END:VCALENDAR
