BEGIN:VCALENDAR
VERSION:2.0
PRODID:-//ChamberMaster//Event Calendar 2.0//EN
METHOD:PUBLISH
X-PUBLISHED-TTL:P3D
REFRESH-INTERVAL:P3D
CALSCALE:GREGORIAN
BEGIN:VEVENT
DTSTART:20170524T223000Z
DTEND:20170524T233000Z
X-MICROSOFT-CDO-ALLDAYEVENT:FALSE
SUMMARY:Camanche-DeWitt Coalition Monthly Meeting
DESCRIPTION:The Camanche-DeWitt Coalition will be having their monthly meeting to discuss updates and youth substance abuse issues.
X-ALT-DESC;FMTTYPE=text/html:The Camanche-DeWitt Coalition will be having their monthly meeting to discuss updates and youth substance abuse issues.
LOCATION:DeWitt City Hall 510 9th St DeWitt\, Iowa 52742
UID:e.1774.2993
SEQUENCE:3
DTSTAMP:20260419T183719Z
URL:https://business.dewittiowa.org/events/details/camanche-dewitt-coalition-monthly-meeting-05-24-2017-2993
END:VEVENT

END:VCALENDAR
