BEGIN:VCALENDAR
VERSION:2.0
PRODID:-//ChamberMaster//Event Calendar 2.0//EN
METHOD:PUBLISH
X-PUBLISHED-TTL:P3D
REFRESH-INTERVAL:P3D
CALSCALE:GREGORIAN
BEGIN:VEVENT
DTSTART:20170322T223000Z
DTEND:20170322T233000Z
X-MICROSOFT-CDO-ALLDAYEVENT:FALSE
SUMMARY:Camanche-DeWitt Coalition Monthly Meeting
DESCRIPTION:The Camanche-DeWitt Coalition's Mission is "Through partnership and collaboration\, work to reduce unhealthy use and abuse of substances and related issues by youth and\, over time\, adults in Camanche and DeWitt and surrounding areas." We will be having our scheduled monthly meeting Wednesday\, March 22 from 5:30 - 6:30 p.m.
X-ALT-DESC;FMTTYPE=text/html:The Camanche-DeWitt Coalition&#39\;s Mission is &quot\;Through partnership and collaboration\, work to reduce unhealthy use and abuse of substances and related issues by youth and\, over time\, adults in Camanche and DeWitt and surrounding areas.&quot\; We will be having our scheduled monthly meeting Wednesday\, March 22 from 5:30 - 6:30 p.m.
LOCATION:DeWitt City Hall 510 9th St. DeWitt\, IA
UID:e.1774.1898
SEQUENCE:3
DTSTAMP:20260419T221034Z
URL:https://business.dewittiowa.org/events/details/camanche-dewitt-coalition-monthly-meeting-1898
END:VEVENT

END:VCALENDAR
