BEGIN:VCALENDAR
VERSION:2.0
PRODID:-//ChamberMaster//Event Calendar 2.0//EN
METHOD:PUBLISH
X-PUBLISHED-TTL:P3D
REFRESH-INTERVAL:P3D
CALSCALE:GREGORIAN
BEGIN:VEVENT
DTSTART:20160109T200000Z
DTEND:20160109T210000Z
X-MICROSOFT-CDO-ALLDAYEVENT:FALSE
SUMMARY:Camanche-DeWitt Coalition Open House
DESCRIPTION:The Camanche-DeWitt Coalition has received a Drug-Free Communities grant to help fight youth substance abuse in Camanche and DeWitt. The Camanche-DeWitt Coalition is hosting an Open House Event for the community to come out and learn more about the coalition\, their mission\, goals\, etc. There will be free pizza and pop to all who attend. There will also be state and federal representatives for the community to speak with in regards to youth substance abuse issues. Stop by and meet your local coalition and find out how you can become involved in this great coalition.
X-ALT-DESC;FMTTYPE=text/html:The Camanche-DeWitt Coalition has received a Drug-Free Communities grant to help fight youth substance abuse in Camanche and DeWitt. The Camanche-DeWitt Coalition is hosting an Open House Event for the community to come out and learn more about the coalition\, their mission\, goals\, etc. There will be free pizza and pop to all who attend. There will also be state and federal representatives for the community to speak with in regards to youth substance abuse issues. Stop by and meet your local coalition and find out how you can become involved in this great coalition.
LOCATION:DeWitt Community Center 512 10th St. DeWitt
UID:e.1774.1172
SEQUENCE:3
DTSTAMP:20260420T201339Z
URL:https://business.dewittiowa.org/events/details/camanche-dewitt-coalition-open-house-01-09-2016-1172
END:VEVENT

END:VCALENDAR
