BEGIN:VCALENDAR
VERSION:2.0
PRODID:-//ChamberMaster//Event Calendar 2.0//EN
METHOD:PUBLISH
X-PUBLISHED-TTL:P3D
REFRESH-INTERVAL:P3D
CALSCALE:GREGORIAN
BEGIN:VEVENT
DTSTART:20161218T140000Z
DTEND:20161219T020500Z
X-MICROSOFT-CDO-ALLDAYEVENT:FALSE
SUMMARY:CANCELLED: American Legion Post #238 Pancake Breakfast & Auxiliary Bake Sale
DESCRIPTION:Due to the forecasted storm and wind chill\, we have decided to cancel our Breakfast.
X-ALT-DESC;FMTTYPE=text/html:Due to the forecasted storm and wind chill\, we have decided to cancel our Breakfast.<br />\n<br />\n&nbsp\;
LOCATION:American Legion Hall 704 9th St. DeWitt\, IA
UID:e.1774.1724
SEQUENCE:3
DTSTAMP:20260420T030558Z
URL:https://business.dewittiowa.org/events/details/cancelled-american-legion-post-238-pancake-breakfast-auxiliary-bake-sale-1724
END:VEVENT

END:VCALENDAR
