BEGIN:VCALENDAR
VERSION:2.0
PRODID:-//ChamberMaster//Event Calendar 2.0//EN
METHOD:PUBLISH
X-PUBLISHED-TTL:P3D
REFRESH-INTERVAL:P3D
CALSCALE:GREGORIAN
BEGIN:VEVENT
DTSTART:20170729T230000Z
DTEND:20170730T010000Z
X-MICROSOFT-CDO-ALLDAYEVENT:FALSE
SUMMARY:Cannonball for Kiddos!
DESCRIPTION:Come make a splash for a good cause! Enjoy two hours of swimming\, picnic dinner of brats or hotdogs and even compete in a Cannonball Contest if you choose! Children who are old enough to proficiently swim in the deep end can compete against each other for the best Cannonball in Clinton County! Winner receives a $20 gift card to Scholastic Book Club! All proceeds going to From Cover to Cover\, a local non-profit charity advocating literacy to the at-risk children of the community. Register by emailing: Fromcovertocover.clintoncounty@gmail.com with your last name\, RSVP # and your preference of hotdog or brat (one per person).
X-ALT-DESC;FMTTYPE=text/html:Come make a splash for a good cause! Enjoy two hours of swimming\, picnic dinner of brats or hotdogs and even compete in a Cannonball Contest if you choose! Children who are old enough to proficiently swim in the deep end can compete against each other for the best Cannonball in Clinton County! Winner receives a $20 gift card to Scholastic Book Club! All proceeds going to From Cover to Cover\, a local non-profit charity advocating literacy to the at-risk children of the community. Register by emailing: <a href="mailto:Fromcovertocover.clintoncounty@gmail.com">Fromcovertocover.clintoncounty@gmail.com</a> with your last name\, RSVP # and your preference of hotdog or brat (one per person).
LOCATION:DeWitt Aquatic Center
UID:e.1774.3172
SEQUENCE:3
DTSTAMP:20260419T152333Z
URL:https://business.dewittiowa.org/events/details/cannonball-for-kiddos-3172
END:VEVENT

END:VCALENDAR
