BEGIN:VCALENDAR
VERSION:2.0
PRODID:-//ChamberMaster//Event Calendar 2.0//EN
METHOD:PUBLISH
X-PUBLISHED-TTL:P3D
REFRESH-INTERVAL:P3D
CALSCALE:GREGORIAN
BEGIN:VEVENT
DTSTART:20170218T190000Z
DTEND:20170218T220000Z
X-MICROSOFT-CDO-ALLDAYEVENT:FALSE
SUMMARY:Canvas and Cocoa
DESCRIPTION:Painting Party and Hot Chocolate Bar\n\nRegister online at gracedewitt.org
X-ALT-DESC;FMTTYPE=text/html:Painting Party and Hot Chocolate Bar<br />\nRegister online at <a href="http://gracedewitt.org">gracedewitt.org</a>
LOCATION:Grace Lutheran Church 415 10th St. DeWitt\, IA
UID:e.1774.1829
SEQUENCE:3
DTSTAMP:20260420T011757Z
URL:https://business.dewittiowa.org/events/details/canvas-and-cocoa-1829
END:VEVENT

END:VCALENDAR
