BEGIN:VCALENDAR
VERSION:2.0
PRODID:-//ChamberMaster//Event Calendar 2.0//EN
METHOD:PUBLISH
X-PUBLISHED-TTL:P3D
REFRESH-INTERVAL:P3D
CALSCALE:GREGORIAN
BEGIN:VEVENT
DTSTART:20140809T140000Z
DTEND:20140809T190000Z
X-MICROSOFT-CDO-ALLDAYEVENT:FALSE
SUMMARY:Car Show at Krieger's
DESCRIPTION:DeWitt Fire Department will serve lunch from 11am-1pm\, Car show 10am- 2pm\, and live radio remote from 11am-1pm. Come join the fun!!
X-ALT-DESC;FMTTYPE=text/html:DeWitt Fire Department will serve lunch from 11am-1pm\, Car show 10am- 2pm\, and live radio remote from 11am-1pm. Come join the fun!!
LOCATION:Krieger's of DeWitt 2113 11th St. DeWitt IA 52742
UID:e.1774.118
SEQUENCE:3
DTSTAMP:20260422T010944Z
URL:https://business.dewittiowa.org/events/details/car-show-at-krieger-s-08-09-2014-118
END:VEVENT

END:VCALENDAR
