BEGIN:VCALENDAR
VERSION:2.0
PRODID:-//ChamberMaster//Event Calendar 2.0//EN
METHOD:PUBLISH
X-PUBLISHED-TTL:P3D
REFRESH-INTERVAL:P3D
CALSCALE:GREGORIAN
BEGIN:VEVENT
DTSTART:20150709T233000Z
DTEND:20150710T010000Z
X-MICROSOFT-CDO-ALLDAYEVENT:FALSE
SUMMARY:Cartooning Class
DESCRIPTION:Learn to draw your favorite Superhero..or YOU as your favorite superhero.. or make one up that's new! Chris McBrien has been presenting cartooning classes in public libraries for 10 years.
X-ALT-DESC;FMTTYPE=text/html:Learn to draw your favorite Superhero..or YOU as your favorite superhero.. or make one up that&#39\;s new! Chris McBrien has been presenting cartooning classes in public libraries for 10 years.
LOCATION:Frances Banta Waggoner Community Library Meeting Room 505 10th St.\, DeWitt
UID:e.1774.912
SEQUENCE:3
DTSTAMP:20260421T061233Z
URL:https://business.dewittiowa.org/events/details/cartooning-class-07-09-2015-912
END:VEVENT

END:VCALENDAR
