BEGIN:VCALENDAR
VERSION:2.0
PRODID:-//ChamberMaster//Event Calendar 2.0//EN
METHOD:PUBLISH
X-PUBLISHED-TTL:P3D
REFRESH-INTERVAL:P3D
CALSCALE:GREGORIAN
BEGIN:VEVENT
DTSTART:20170916T213000Z
DTEND:20170917T003000Z
X-MICROSOFT-CDO-ALLDAYEVENT:FALSE
SUMMARY:Catfish Fry
DESCRIPTION:DeWitt Area Veterans Memorial American Legion Post 238 Catfish Fry on Saturday\, Sept. 16 from 4:30-7:30 pm at the American Legion. All proceeds go to the DeWitt Area Veterans Memorial.
X-ALT-DESC;FMTTYPE=text/html:DeWitt Area Veterans Memorial American Legion Post 238 Catfish Fry on Saturday\, Sept. 16 from 4:30-7:30 pm at the American Legion. All proceeds go to the DeWitt Area Veterans Memorial. &nbsp\;
LOCATION:American Legion Post 238 704 9th St\, DeWitt
UID:e.1774.4274
SEQUENCE:3
DTSTAMP:20260419T120525Z
URL:https://business.dewittiowa.org/events/details/catfish-fry-4274
END:VEVENT

END:VCALENDAR
