BEGIN:VCALENDAR
VERSION:2.0
PRODID:-//ChamberMaster//Event Calendar 2.0//EN
METHOD:PUBLISH
X-PUBLISHED-TTL:P3D
REFRESH-INTERVAL:P3D
CALSCALE:GREGORIAN
BEGIN:VEVENT
DTSTART;VALUE=DATE:20170201
DTEND;VALUE=DATE:20170202
TRANSP:TRANSPARENT
X-MICROSOFT-CDO-ALLDAYEVENT:TRUE
SUMMARY:Catholic Schools Week
DESCRIPTION:Celebrate Catholic Schools Week 2017!\n\nJanuary 29th - February 3rd\n\n\n\nSt. Joseph Catholic School\n\nWe put faith in education.\n\n563-659-3812
X-ALT-DESC;FMTTYPE=text/html:<div style="text-align: center\;"><span style="font-size:16px">Celebrate Catholic Schools Week 2017!<br />\nJanuary 29<sup>th</sup> - February 3<sup>rd</sup></span><br />\n<br />\nSt. Joseph Catholic School<br />\n<em>We put faith in education.</em></div>\n\n<div style="text-align: center\;">563-659-3812</div>\n
LOCATION:
UID:e.1774.1860
SEQUENCE:3
DTSTAMP:20260419T234527Z
URL:https://business.dewittiowa.org/events/details/catholic-schools-week-1860
END:VEVENT

END:VCALENDAR
