BEGIN:VCALENDAR
VERSION:2.0
PRODID:-//ChamberMaster//Event Calendar 2.0//EN
METHOD:PUBLISH
X-PUBLISHED-TTL:P3D
REFRESH-INTERVAL:P3D
CALSCALE:GREGORIAN
BEGIN:VEVENT
DTSTART:20160613T140000Z
DTEND:20160613T170000Z
X-MICROSOFT-CDO-ALLDAYEVENT:FALSE
SUMMARY:Cave Quest Vacation Bible School
DESCRIPTION:Vacation Bible School for kids who are 4 years old thru those who have just finished the 6th grade!
X-ALT-DESC;FMTTYPE=text/html:Vacation Bible School for kids who are 4 years old thru those who have just finished the 6th grade!
LOCATION:DeWitt Evangelical Free Church 1921 Elmwood Road\, DeWitt\, IA
UID:e.1774.1381
SEQUENCE:3
DTSTAMP:20260420T135123Z
URL:https://business.dewittiowa.org/events/details/cave-quest-vacation-bible-school-06-13-2016-1381
END:VEVENT

END:VCALENDAR
