BEGIN:VCALENDAR
VERSION:2.0
PRODID:-//ChamberMaster//Event Calendar 2.0//EN
METHOD:PUBLISH
X-PUBLISHED-TTL:P3D
REFRESH-INTERVAL:P3D
CALSCALE:GREGORIAN
BEGIN:VEVENT
DTSTART:20160305T150000Z
DTEND:20160305T163000Z
X-MICROSOFT-CDO-ALLDAYEVENT:FALSE
SUMMARY:CCJCC - Law Center Public Forum
DESCRIPTION:Public Forum for the proposed Clinton County Jail/Sheriff's Office/911 Communications Center\, offered by CCJCC. This Educational Forum will consist of a short video and presentation. There will be a Question and Answer session. Click here to view the CCJCC media release.
X-ALT-DESC;FMTTYPE=text/html:Public Forum for the proposed Clinton County Jail/Sheriff&#39\;s Office/911 Communications Center\, offered by CCJCC. This Educational Forum will consist of a short video and presentation. There will be a Question and Answer session. <a href="https://chambermaster.blob.core.windows.net/userfiles/UserFiles/chambers/1774/File/MediaReleaseClintonCountyIAFeb.252016-DeWittFORUMon3.5.16.pdf">Click here</a> to view the CCJCC media release.
LOCATION:DeWitt Community Center
UID:e.1774.1249
SEQUENCE:3
DTSTAMP:20260420T171119Z
URL:https://business.dewittiowa.org/events/details/ccjcc-law-center-public-forum-03-05-2016-1249
END:VEVENT

END:VCALENDAR
